BEGIN:VCALENDAR
VERSION:2.0
PRODID:-//Real Esclavitud - ECPv6.15.20//NONSGML v1.0//EN
CALSCALE:GREGORIAN
METHOD:PUBLISH
X-ORIGINAL-URL:https://realesclavitudalmudena.com
X-WR-CALDESC:Eventos para Real Esclavitud
REFRESH-INTERVAL;VALUE=DURATION:PT1H
X-Robots-Tag:noindex
X-PUBLISHED-TTL:PT1H
BEGIN:VTIMEZONE
TZID:Europe/Madrid
BEGIN:DAYLIGHT
TZOFFSETFROM:+0100
TZOFFSETTO:+0200
TZNAME:CEST
DTSTART:20230326T010000
END:DAYLIGHT
BEGIN:STANDARD
TZOFFSETFROM:+0200
TZOFFSETTO:+0100
TZNAME:CET
DTSTART:20231029T010000
END:STANDARD
BEGIN:DAYLIGHT
TZOFFSETFROM:+0100
TZOFFSETTO:+0200
TZNAME:CEST
DTSTART:20240331T010000
END:DAYLIGHT
BEGIN:STANDARD
TZOFFSETFROM:+0200
TZOFFSETTO:+0100
TZNAME:CET
DTSTART:20241027T010000
END:STANDARD
BEGIN:DAYLIGHT
TZOFFSETFROM:+0100
TZOFFSETTO:+0200
TZNAME:CEST
DTSTART:20250330T010000
END:DAYLIGHT
BEGIN:STANDARD
TZOFFSETFROM:+0200
TZOFFSETTO:+0100
TZNAME:CET
DTSTART:20251026T010000
END:STANDARD
END:VTIMEZONE
BEGIN:VEVENT
DTSTART;VALUE=DATE:20241109
DTEND;VALUE=DATE:20241110
DTSTAMP:20260422T044745
CREATED:20241101T195521Z
LAST-MODIFIED:20241103T201309Z
UID:7033-1731110400-1731196799@realesclavitudalmudena.com
SUMMARY:DIA 9 DE NOVIEMBRE\, LA FESTIVIDAD DE LA ALMUDENA
DESCRIPTION:DIA 9 DE NOVIEMBRE 2024 PROGRAMA DE ACTIVIDADES \n\n10\,00 A 20\,00 HORAS. OFRENDA FLORAL Y SOLIDARIA\n11\,00 HORAS EUCARÍSTIA Y POSTERIOR PROCESIÓN:   RECORRIDO CIRCULAR DE LA CATEDRAL DE LA ALMUDENA\, CALLE MAYOR\, CALLE SANTIAGO\, CALLE REQUENA\, CALLE BAÍLEN Y CATEDRAL DE LA ALMUDENA.\n11\,30 HORAS\, ACTUACIÓN GURPOS MADRILEÑOS ANTE EL AYUTAMINETO.\n17\,00 HORAS: PASACALLES GRUPOS MADRILEÑOS DESDE LA CATEDRAL HASTA EL AYUTAMIENTO\,\n18\,00 HORAS\, BANDA DE JESÚS EL POBRE EN LA PLAZA .\nMISAS EN LA CATEDRAL:  A LAS 17\,00 HORAS\, 18\,00 HORAS\, 19\,00 HORAS\, Y 20\,00 HORAS.\nOS ESPERAMOS \, EN UN DIA TAN IMPORTANTE COMO LA FESTIDAD DE LA PATRONA DE MADRID\, LA VIRGEN DE LA ALMUDENA.   //GRACIAS //
URL:https://realesclavitudalmudena.com/evento/dia-9-de-noviembre-la-festividad-de-la-almudena
CATEGORIES:Catedral de la Almudena,DON JOSE COBO
ATTACH;FMTTYPE=image/jpeg:https://realesclavitudalmudena.com/wp-content/uploads/2021/04/132145845_2946842098878604_2049910232990655910_n-1.jpg
END:VEVENT
END:VCALENDAR