BEGIN:VCALENDAR
VERSION:2.0
PRODID:-//Real Esclavitud - ECPv6.15.20//NONSGML v1.0//EN
CALSCALE:GREGORIAN
METHOD:PUBLISH
X-WR-CALNAME:Real Esclavitud
X-ORIGINAL-URL:https://realesclavitudalmudena.com
X-WR-CALDESC:Eventos para Real Esclavitud
REFRESH-INTERVAL;VALUE=DURATION:PT1H
X-Robots-Tag:noindex
X-PUBLISHED-TTL:PT1H
BEGIN:VTIMEZONE
TZID:Europe/Madrid
BEGIN:DAYLIGHT
TZOFFSETFROM:+0100
TZOFFSETTO:+0200
TZNAME:CEST
DTSTART:20250330T010000
END:DAYLIGHT
BEGIN:STANDARD
TZOFFSETFROM:+0200
TZOFFSETTO:+0100
TZNAME:CET
DTSTART:20251026T010000
END:STANDARD
BEGIN:DAYLIGHT
TZOFFSETFROM:+0100
TZOFFSETTO:+0200
TZNAME:CEST
DTSTART:20260329T010000
END:DAYLIGHT
BEGIN:STANDARD
TZOFFSETFROM:+0200
TZOFFSETTO:+0100
TZNAME:CET
DTSTART:20261025T010000
END:STANDARD
BEGIN:DAYLIGHT
TZOFFSETFROM:+0100
TZOFFSETTO:+0200
TZNAME:CEST
DTSTART:20270328T010000
END:DAYLIGHT
BEGIN:STANDARD
TZOFFSETFROM:+0200
TZOFFSETTO:+0100
TZNAME:CET
DTSTART:20271031T010000
END:STANDARD
END:VTIMEZONE
BEGIN:VEVENT
DTSTART;TZID=Europe/Madrid:20260307T070000
DTEND;TZID=Europe/Madrid:20260307T080000
DTSTAMP:20260419T180352
CREATED:20260304T224145Z
LAST-MODIFIED:20260304T225004Z
UID:12438-1772866800-1772870400@realesclavitudalmudena.com
SUMMARY:ROSARIO DE LA AURORA ( MARZO 2026 )
DESCRIPTION:En este mes de marzo\, os convocamos al Rosario de la Aurora a las 07:00 horas del sábado 07 de marzo\, en la Cuesta de la Vega frente a la Imagen de la Virgen de la Almudena. \n\n\n\nOS INVITAMOS A PARTICIPAR \n\n\n\n(Retransmitiremos en directo a las 07 :00 horas por Facebook\, os esperamos.)
URL:https://realesclavitudalmudena.com/evento/rosario-de-la-aurora-marzo-2026
CATEGORIES:Actos Congregación de la Real Esclavitud de la Almudena,Catedral de la Almudena
END:VEVENT
BEGIN:VEVENT
DTSTART;TZID=Europe/Madrid:20260307T200000
DTEND;TZID=Europe/Madrid:20260307T210000
DTSTAMP:20260419T180352
CREATED:20260302T121614Z
LAST-MODIFIED:20260302T155422Z
UID:12365-1772913600-1772917200@realesclavitudalmudena.com
SUMMARY:PREGÓN DE SEMANA SANTA 2026
DESCRIPTION:
URL:https://realesclavitudalmudena.com/evento/pregon-de-semana-santa-2026
ATTACH;FMTTYPE=image/png:https://realesclavitudalmudena.com/wp-content/uploads/2026/03/image.png
END:VEVENT
END:VCALENDAR