BEGIN:VCALENDAR
VERSION:2.0
PRODID:-//Real Esclavitud - ECPv6.15.20//NONSGML v1.0//EN
CALSCALE:GREGORIAN
METHOD:PUBLISH
X-ORIGINAL-URL:https://realesclavitudalmudena.com
X-WR-CALDESC:Eventos para Real Esclavitud
REFRESH-INTERVAL;VALUE=DURATION:PT1H
X-Robots-Tag:noindex
X-PUBLISHED-TTL:PT1H
BEGIN:VTIMEZONE
TZID:Europe/Madrid
BEGIN:DAYLIGHT
TZOFFSETFROM:+0100
TZOFFSETTO:+0200
TZNAME:CEST
DTSTART:20250330T010000
END:DAYLIGHT
BEGIN:STANDARD
TZOFFSETFROM:+0200
TZOFFSETTO:+0100
TZNAME:CET
DTSTART:20251026T010000
END:STANDARD
BEGIN:DAYLIGHT
TZOFFSETFROM:+0100
TZOFFSETTO:+0200
TZNAME:CEST
DTSTART:20260329T010000
END:DAYLIGHT
BEGIN:STANDARD
TZOFFSETFROM:+0200
TZOFFSETTO:+0100
TZNAME:CET
DTSTART:20261025T010000
END:STANDARD
BEGIN:DAYLIGHT
TZOFFSETFROM:+0100
TZOFFSETTO:+0200
TZNAME:CEST
DTSTART:20270328T010000
END:DAYLIGHT
BEGIN:STANDARD
TZOFFSETFROM:+0200
TZOFFSETTO:+0100
TZNAME:CET
DTSTART:20271031T010000
END:STANDARD
END:VTIMEZONE
BEGIN:VEVENT
DTSTART;TZID=Europe/Madrid:20260314T100000
DTEND;TZID=Europe/Madrid:20260314T130000
DTSTAMP:20260419T180830
CREATED:20260302T171252Z
LAST-MODIFIED:20260302T173010Z
UID:12413-1773482400-1773493200@realesclavitudalmudena.com
SUMMARY:RETIRO DE LA REAL ESCLAVITUD
DESCRIPTION:Impartido por D. Carlos Aguilar Grande Pbro. Delegado para la  Piedad Popular
URL:https://realesclavitudalmudena.com/evento/retiro-de-la-real-esclavitud
CATEGORIES:Actos Congregación de la Real Esclavitud de la Almudena
ATTACH;FMTTYPE=image/jpeg:https://realesclavitudalmudena.com/wp-content/uploads/2026/03/WhatsApp-Image-2026-03-02-at-17.50.11.jpeg
END:VEVENT
END:VCALENDAR