BEGIN:VCALENDAR
VERSION:2.0
PRODID:-//Real Esclavitud - ECPv6.15.20//NONSGML v1.0//EN
CALSCALE:GREGORIAN
METHOD:PUBLISH
X-ORIGINAL-URL:https://realesclavitudalmudena.com
X-WR-CALDESC:Eventos para Real Esclavitud
REFRESH-INTERVAL;VALUE=DURATION:PT1H
X-Robots-Tag:noindex
X-PUBLISHED-TTL:PT1H
BEGIN:VTIMEZONE
TZID:Europe/Madrid
BEGIN:DAYLIGHT
TZOFFSETFROM:+0100
TZOFFSETTO:+0200
TZNAME:CEST
DTSTART:20240331T010000
END:DAYLIGHT
BEGIN:STANDARD
TZOFFSETFROM:+0200
TZOFFSETTO:+0100
TZNAME:CET
DTSTART:20241027T010000
END:STANDARD
BEGIN:DAYLIGHT
TZOFFSETFROM:+0100
TZOFFSETTO:+0200
TZNAME:CEST
DTSTART:20250330T010000
END:DAYLIGHT
BEGIN:STANDARD
TZOFFSETFROM:+0200
TZOFFSETTO:+0100
TZNAME:CET
DTSTART:20251026T010000
END:STANDARD
BEGIN:DAYLIGHT
TZOFFSETFROM:+0100
TZOFFSETTO:+0200
TZNAME:CEST
DTSTART:20260329T010000
END:DAYLIGHT
BEGIN:STANDARD
TZOFFSETFROM:+0200
TZOFFSETTO:+0100
TZNAME:CET
DTSTART:20261025T010000
END:STANDARD
END:VTIMEZONE
BEGIN:VEVENT
DTSTART;TZID=Europe/Madrid:20250209T070000
DTEND;TZID=Europe/Madrid:20250209T200000
DTSTAMP:20260421T215719
CREATED:20250205T195821Z
LAST-MODIFIED:20250205T195821Z
UID:7358-1739084400-1739131200@realesclavitudalmudena.com
SUMMARY:EUCARISTÍA  9 DE FEBRERO DE 2025 EN HONOR DE NUESTRA PATRONA  LA VIRGEN DE LA ALMUDENA
DESCRIPTION:DÍA 9 DE FEBRERO  DE 2025 A LAS 19\,00 HORAS \, COMO TODOS LOS MESES\,  DESDE EL AÑO 1640 LA REAL ESCLAVITUD\,  TIENE EL HONOR  DE INVITARLES A PARTICIPAR  EN  LA EUCARISTÍA. DE NUESTRA PATRONA\, LA VIRGEN DE LA ALMUDENA.  \nEN SUS MANOS PONEMOS TODAS NUESTRAS INTENCIONES.\n \nAMEN \n¡¡TE  ESPERAMOS!!\n 
URL:https://realesclavitudalmudena.com/evento/eucaristia-9-de-febrero-de-2025-en-honor-de-nuestra-patrona-la-virgen-de-la-almudena
CATEGORIES:Catedral de la Almudena
ATTACH;FMTTYPE=image/jpeg:https://realesclavitudalmudena.com/wp-content/uploads/2021/04/thumbnail_47cfc485-6e79-44df-93c9-88ba95b91b38.jpg
END:VEVENT
BEGIN:VEVENT
DTSTART;TZID=Europe/Madrid:20250227T193000
DTEND;TZID=Europe/Madrid:20250227T203000
DTSTAMP:20260421T215719
CREATED:20250224T205131Z
LAST-MODIFIED:20250224T205233Z
UID:7416-1740684600-1740688200@realesclavitudalmudena.com
SUMMARY:ORACIÓN POR EL PAPA FRANCISCO EN LA CATEDRAL DE LA ALMUDENA
DESCRIPTION:La Archidiócesis de Madrid invita a todos los fieles\, parroquias\, vida consagrada\, movimientos y asociaciones de la Iglesia en Madrid\, a unirse en una oración por el restablecimiento de la salud del Papa Francisco este jueves\, 27 de febrero\, a las 19:30 horas en la catedral de la Almudena\, presidida por el cardenal José Cobo\, arzobispo de Madrid.\n!! TE ESPERAMOS ¡¡
URL:https://realesclavitudalmudena.com/evento/jueves-a-una-oracion-por-el-papa-francisco-en-la-catedral-de-la-almudena
CATEGORIES:Catedral de la Almudena,DON JOSE COBO
ATTACH;FMTTYPE=image/png:https://realesclavitudalmudena.com/wp-content/uploads/2025/02/image-18.png
END:VEVENT
BEGIN:VEVENT
DTSTART;TZID=Europe/Madrid:20250309T190000
DTEND;TZID=Europe/Madrid:20250309T200000
DTSTAMP:20260421T215719
CREATED:20250307T105953Z
LAST-MODIFIED:20250307T112018Z
UID:7441-1741546800-1741550400@realesclavitudalmudena.com
SUMMARY:MISA MENSUAL DE LA CONGREGACIÓN 09.03.2025
DESCRIPTION:19:00 Misa mensual de la Congregación de la Real Esclavitud. \nEn este primer Domingo de Cuaresma nos unimos a caminar Juntos nuestra Congregación con todo el pueblo de Dios que camina en Madrid.
URL:https://realesclavitudalmudena.com/evento/misa-mensual-de-la-congregacion-09-03-2025
LOCATION:Catedral de Santa María la Real de la Almudena\, C/ Bailén 10\, Madrid\, Madrid\, 28013
CATEGORIES:Catedral de la Almudena
ATTACH;FMTTYPE=image/jpeg:https://realesclavitudalmudena.com/wp-content/uploads/2025/03/WhatsApp-Image-2025-03-03-at-23.15.49-2.jpeg
END:VEVENT
BEGIN:VEVENT
DTSTART;TZID=Europe/Madrid:20250315T200000
DTEND;TZID=Europe/Madrid:20250315T220000
DTSTAMP:20260421T215719
CREATED:20250308T215031Z
LAST-MODIFIED:20250308T215426Z
UID:7461-1742068800-1742076000@realesclavitudalmudena.com
SUMMARY:Pregón de Semana Santa Catedral de la Almudena 15.03.2025
DESCRIPTION:  \nEl conocido cofrade madrileño Enrique Guevara\, director de la revista anual de la Semana Santa madrileña y autor de numerosos libros\, será el encargado de pronunciar el pregón de la Semana Santa 2025 en Madrid. \nCon él\, la diócesis quedará convocada a celebrar la Pasión\, Muerte y Resurrección de Cristo acompañando al Señor y a la Virgen en sus salidas procesionales por las calles\, desde el Viernes de Dolores hasta el Sábado Santo. \nLa catedral de Santa María la Real de la Almudena acogerá la proclamación del pregón el sábado 15 de marzo a las 20:00 horas\, con la intervención de la Banda procesional de la Cofradía de Jesús el Pobre. \nEl acto servirá para introducir los días grandes de Pasión\, que este año arrancarán el 17 de abril\, Jueves Santo\, hasta el Domingo de Resurrección\, 20 de abril. \n\n\n\n\n\n\nInfomadrid
URL:https://realesclavitudalmudena.com/evento/pregon-de-semana-santa-catedral-de-la-almudena-15-03-2025
LOCATION:Catedral de Santa María la Real de la Almudena\, C/ Bailén 10\, Madrid\, Madrid\, 28013
CATEGORIES:Catedral de la Almudena
ATTACH;FMTTYPE=image/jpeg:https://realesclavitudalmudena.com/wp-content/uploads/2025/03/173b88e11fad31b1149438e50592ba31_XL.jpg
END:VEVENT
BEGIN:VEVENT
DTSTART;TZID=Europe/Madrid:20250322T100000
DTEND;TZID=Europe/Madrid:20250322T130000
DTSTAMP:20260421T215719
CREATED:20250311T172528Z
LAST-MODIFIED:20250312T115037Z
UID:7528-1742637600-1742648400@realesclavitudalmudena.com
SUMMARY:Retiro Cuaresmal 22.03.2025
DESCRIPTION:Estamos a mitad de camino de esta Cuaresma y la Real Esclavitud de la Almudena en cada uno de sus miembros estamos llamados a vivir una conversión continua de nuestros corazones para poder soportar las cruces y abrirnos a la esperanza. Venid y descansad un poco. El sábado 22 de marzo de 2025 hacia las 10:00 horas.
URL:https://realesclavitudalmudena.com/evento/retiro-cuaresmal-2025
CATEGORIES:Actos Congregación de la Real Esclavitud de la Almudena
ATTACH;FMTTYPE=image/jpeg:https://realesclavitudalmudena.com/wp-content/uploads/2025/03/WhatsApp-Image-2025-03-11-at-17.49.52-1.jpeg
END:VEVENT
BEGIN:VEVENT
DTSTART;TZID=Europe/Madrid:20250325T190000
DTEND;TZID=Europe/Madrid:20250325T190000
DTSTAMP:20260421T215719
CREATED:20250311T174417Z
LAST-MODIFIED:20250311T174417Z
UID:7534-1742929200-1742929200@realesclavitudalmudena.com
SUMMARY:Jornada Jubilar por la Vida
DESCRIPTION:
URL:https://realesclavitudalmudena.com/evento/jornada-jubilar-por-la-vida
END:VEVENT
BEGIN:VEVENT
DTSTART;TZID=Europe/Madrid:20250405T080000
DTEND;TZID=Europe/Madrid:20250405T080000
DTSTAMP:20260421T215719
CREATED:20250311T174526Z
LAST-MODIFIED:20250311T174526Z
UID:7539-1743840000-1743840000@realesclavitudalmudena.com
SUMMARY:Rosario de la Aurora en la Cuesta de la Vega
DESCRIPTION:
URL:https://realesclavitudalmudena.com/evento/rosario-de-la-aurora-en-la-cuesta-de-la-vega
END:VEVENT
BEGIN:VEVENT
DTSTART;TZID=Europe/Madrid:20250406T120000
DTEND;TZID=Europe/Madrid:20250406T120000
DTSTAMP:20260421T215719
CREATED:20250311T174640Z
LAST-MODIFIED:20250311T174640Z
UID:7542-1743940800-1743940800@realesclavitudalmudena.com
SUMMARY:Jornada Jubilar de los Enfermos.
DESCRIPTION:
URL:https://realesclavitudalmudena.com/evento/jornada-jubilar-de-los-enfermos
END:VEVENT
BEGIN:VEVENT
DTSTART;TZID=Europe/Madrid:20250409T190000
DTEND;TZID=Europe/Madrid:20250409T200000
DTSTAMP:20260421T215719
CREATED:20250311T174730Z
LAST-MODIFIED:20250312T104447Z
UID:7544-1744225200-1744228800@realesclavitudalmudena.com
SUMMARY:MISA MENSUAL DE LA CONGREGACIÓN 09.04.2025
DESCRIPTION:
URL:https://realesclavitudalmudena.com/evento/misa-mensual-de-la-congregacion
CATEGORIES:Actos Congregación de la Real Esclavitud de la Almudena
END:VEVENT
BEGIN:VEVENT
DTSTART;VALUE=DATE:20250411
DTEND;VALUE=DATE:20250421
DTSTAMP:20260421T215719
CREATED:20250311T174842Z
LAST-MODIFIED:20250311T174842Z
UID:7546-1744329600-1745193599@realesclavitudalmudena.com
SUMMARY:"Viernes de Dolores"
DESCRIPTION:
URL:https://realesclavitudalmudena.com/evento/viernes-de-dolores
END:VEVENT
BEGIN:VEVENT
DTSTART;VALUE=DATE:20250413
DTEND;VALUE=DATE:20250414
DTSTAMP:20260421T215719
CREATED:20250311T175228Z
LAST-MODIFIED:20250311T175228Z
UID:7550-1744502400-1744588799@realesclavitudalmudena.com
SUMMARY:Misa solemne de Ramos con procesión
DESCRIPTION:
URL:https://realesclavitudalmudena.com/evento/misa-solemne-de-ramos-con-procesion
END:VEVENT
BEGIN:VEVENT
DTSTART;TZID=Europe/Madrid:20250415T120000
DTEND;TZID=Europe/Madrid:20250415T120000
DTSTAMP:20260421T215719
CREATED:20250311T175345Z
LAST-MODIFIED:20250311T175345Z
UID:7552-1744718400-1744718400@realesclavitudalmudena.com
SUMMARY:Misa Crismal
DESCRIPTION:
URL:https://realesclavitudalmudena.com/evento/misa-crismal
END:VEVENT
BEGIN:VEVENT
DTSTART;VALUE=DATE:20250416
DTEND;VALUE=DATE:20250417
DTSTAMP:20260421T215719
CREATED:20250311T175415Z
LAST-MODIFIED:20250311T175415Z
UID:7554-1744761600-1744847999@realesclavitudalmudena.com
SUMMARY:Vía Crucis en la Catedral
DESCRIPTION:
URL:https://realesclavitudalmudena.com/evento/via-crucis-en-la-catedral
END:VEVENT
BEGIN:VEVENT
DTSTART;VALUE=DATE:20250417
DTEND;VALUE=DATE:20250418
DTSTAMP:20260421T215719
CREATED:20250311T175502Z
LAST-MODIFIED:20250311T193421Z
UID:7556-1744848000-1744934399@realesclavitudalmudena.com
SUMMARY:Misa de la Cena del Señor y turno de Vela
DESCRIPTION:
URL:https://realesclavitudalmudena.com/evento/misa-de-la-cena-del-senor-y-turno-de-vela
END:VEVENT
BEGIN:VEVENT
DTSTART;VALUE=DATE:20250418
DTEND;VALUE=DATE:20250419
DTSTAMP:20260421T215719
CREATED:20250311T175533Z
LAST-MODIFIED:20250311T175533Z
UID:7558-1744934400-1745020799@realesclavitudalmudena.com
SUMMARY:Celebración de la Cruz del Señor
DESCRIPTION:
URL:https://realesclavitudalmudena.com/evento/celebracion-de-la-cruz-del-senor
END:VEVENT
BEGIN:VEVENT
DTSTART;VALUE=DATE:20250419
DTEND;VALUE=DATE:20250420
DTSTAMP:20260421T215719
CREATED:20250311T175610Z
LAST-MODIFIED:20250311T175610Z
UID:7560-1745020800-1745107199@realesclavitudalmudena.com
SUMMARY:Oración junto a María
DESCRIPTION:
URL:https://realesclavitudalmudena.com/evento/oracion-junto-a-maria
END:VEVENT
BEGIN:VEVENT
DTSTART;TZID=Europe/Madrid:20250419T230000
DTEND;TZID=Europe/Madrid:20250419T230000
DTSTAMP:20260421T215719
CREATED:20250311T175652Z
LAST-MODIFIED:20250311T175652Z
UID:7562-1745103600-1745103600@realesclavitudalmudena.com
SUMMARY:Vigilia Pascual
DESCRIPTION:
URL:https://realesclavitudalmudena.com/evento/vigilia-pascual
END:VEVENT
BEGIN:VEVENT
DTSTART;TZID=Europe/Madrid:20250420T120000
DTEND;TZID=Europe/Madrid:20250420T120000
DTSTAMP:20260421T215719
CREATED:20250311T175143Z
LAST-MODIFIED:20250311T175829Z
UID:7548-1745150400-1745150400@realesclavitudalmudena.com
SUMMARY:Domingo de Resurrección
DESCRIPTION:
URL:https://realesclavitudalmudena.com/evento/domingo-de-resurreccion
END:VEVENT
BEGIN:VEVENT
DTSTART;TZID=Europe/Madrid:20250421T080000
DTEND;TZID=Europe/Madrid:20250421T170000
DTSTAMP:20260421T215719
CREATED:20250421T140352Z
LAST-MODIFIED:20250421T140352Z
UID:8194-1745222400-1745254800@realesclavitudalmudena.com
SUMMARY:MISA FUNERAL POR EL PAPA FRANCISCO
DESCRIPTION:EL cardenal José Cobo\, arzobispo de Madrid\, invita a toda la Iglesia de Madrid a participar en la Misa que se celebrará esta tarde\, lunes 21 de abril\, a las 19:00 h en la catedral de la Almudena\, para recordar y rezar por el Papa Francisco.
URL:https://realesclavitudalmudena.com/evento/misa-funeral-por-el-papa-francisco
CATEGORIES:Catedral de la Almudena,DON JOSE COBO
ATTACH;FMTTYPE=image/jpeg:https://realesclavitudalmudena.com/wp-content/uploads/2025/04/Texto.jpg
END:VEVENT
BEGIN:VEVENT
DTSTART;TZID=Europe/Madrid:20250430T190000
DTEND;TZID=Europe/Madrid:20250430T200000
DTSTAMP:20260421T215719
CREATED:20250311T175918Z
LAST-MODIFIED:20250419T074102Z
UID:7564-1746039600-1746043200@realesclavitudalmudena.com
SUMMARY:Misa Jubilar de la Discapacidad 30.04.2025
DESCRIPTION:En el marco del Año Santo\, el miércoles\, 30 de abril\, a las 19:00 horas\, el cardenal José Cobo\, arzobispo de Madrid\, presidirá en la catedral de La Almudena la eucaristía en el JUBILEO DE LAS PERSONAS CON DISCAPACIDAD. La celebración podrá seguirse en directo a través del Canal de YouTube de la Archidiócesis de Madrid\, permitiendo participar incluso a quienes no puedan asistir físicamente a la catedral. \n  \nFuente: https://www.pastoralsocialmadrid.com
URL:https://realesclavitudalmudena.com/evento/misa-jubilar-de-la-discapacidad
CATEGORIES:Catedral de la Almudena
END:VEVENT
BEGIN:VEVENT
DTSTART;TZID=Europe/Madrid:20250509T190000
DTEND;TZID=Europe/Madrid:20250509T200000
DTSTAMP:20260421T215719
CREATED:20250509T063513Z
LAST-MODIFIED:20250509T063524Z
UID:8486-1746817200-1746820800@realesclavitudalmudena.com
SUMMARY:MISA DE LA CONGREGACIÓN 9 DE MAYO 2025 IMPOSICIÓN DE MEDALLAS
DESCRIPTION:
URL:https://realesclavitudalmudena.com/evento/misa-de-la-congregacion-9-de-mayo-imposicion-de-medallas
CATEGORIES:Actos Congregación de la Real Esclavitud de la Almudena
ATTACH;FMTTYPE=image/jpeg:https://realesclavitudalmudena.com/wp-content/uploads/2025/05/WhatsApp-Image-2025-04-30-at-14.19.03.jpeg
END:VEVENT
BEGIN:VEVENT
DTSTART;TZID=Europe/Madrid:20250908T190000
DTEND;TZID=Europe/Madrid:20250908T203000
DTSTAMP:20260421T215719
CREATED:20251117T233929Z
LAST-MODIFIED:20251117T233929Z
UID:11136-1757358000-1757363400@realesclavitudalmudena.com
SUMMARY:FIESTA ANUAL DE LA REAL ESCLAVITUD  2025
DESCRIPTION:MISA DE LA CONGREGACIÓN DEL MES DE SEPTIEMBRE\n\n\nQueridos Congregantes\, fieles y devotos.\n\n\nComo cada 8 de septiembre a las 19:00 horas\, nuestra Congregación celebrará Santa Misa y Fiesta Anual de la Real Esclavitud en la Catedral de Santa María la Real de la Almudena.\n\n\nAnimamos a todos a encontrarnos en la unión de la Eucaristía como modo de fomentar la devoción a nuestra Madre\, Santa María la Real de la Almudena.\n\n\n¡¡OS ESPERAMOS!!
URL:https://realesclavitudalmudena.com/evento/fiesta-anual-de-la-real-esclavitud-2025
CATEGORIES:Actos Congregación de la Real Esclavitud de la Almudena
ATTACH;FMTTYPE=image/jpeg:https://realesclavitudalmudena.com/wp-content/uploads/2025/11/542751295_812102428059691_9185533124268228539_n.jpg
END:VEVENT
BEGIN:VEVENT
DTSTART;VALUE=DATE:20251109
DTEND;VALUE=DATE:20251110
DTSTAMP:20260421T215719
CREATED:20251117T231744Z
LAST-MODIFIED:20251117T231745Z
UID:11132-1762646400-1762732799@realesclavitudalmudena.com
SUMMARY:FESTIVIDAD DE SANTA MARÍA LA REAL DE LA ALMUDENA 2025
DESCRIPTION:LLego de nuevo un 09 de noviembre en nuestro Madrid\, día en que\, de forma especial\, honramos a nuestra Madre\, Santa María la Real de la Almudena\, patrona de Madrid y su Archidiócesis.\n\n\nNuestra Congregación de la Real e Ilustre Esclavitud y Santo Rosario de Santa Maria la Real de la Almudena\, representada por el Presidente\, miembros de la Junta de Gobierno y Congregantes\, han acompañado a nuestra Patrona en la Santa Misa celebrada en su honor en la Plaza de la Armería\, presidida por el Sr. Cardenal Arzobispo Mons. José Cobo\, y en la posterior procesión que ha tenido lugar por las calles de nuestro querido y viejo Madrid.\n\n\nA ti Madre nuestra\, te pedimos que siga velando y cuidando de tu Madrid y tus Madrileños que sean tus Peregrinos de Esperanza.\n\n\n¡¡ VIVA SANTA MARÍA LA REAL DE LA ALMUDENA!!\n\n\n09/11/2025\n Real Esclavitud y Santo Rosario de Santa María la Real de la Almudena.\nComparte y da a conocer la Congregación.
URL:https://realesclavitudalmudena.com/evento/festividad-de-santa-maria-la-real-de-la-almudena-2025
CATEGORIES:Actos Congregación de la Real Esclavitud de la Almudena
ATTACH;FMTTYPE=image/jpeg:https://realesclavitudalmudena.com/wp-content/uploads/2025/11/577913084_866777725925494_7044187397569212402_n.jpg
END:VEVENT
BEGIN:VEVENT
DTSTART;TZID=Europe/Madrid:20251120T200000
DTEND;TZID=Europe/Madrid:20251120T210000
DTSTAMP:20260421T215719
CREATED:20251120T141353Z
LAST-MODIFIED:20251120T141354Z
UID:11166-1763668800-1763672400@realesclavitudalmudena.com
SUMMARY:La catedral de la Almudena acoge una celebración ecuménica histórica por los 1.700 años del Concilio de Nicea
DESCRIPTION:La catedral de Santa María la Real de la Almudena será este jueves\, a las 20:00 horas\, el escenario de una celebración ecuménica con motivo del 1.700 aniversario del Concilio de Nicea. \nLa celebración\, organizada la Subcomisión Episcopal para las Relaciones interconfesionales y el Diálogo interreligioso de la Conferencia Episcopal Española (CEE) y preparada conjuntamente con las distintas confesiones cristianas presentes en España\, reunirá en la Almudena a representantes de la Iglesia católica\, las Iglesias ortodoxas\, las comunidades anglicanas y diversas iglesias evangélicas\, en un gesto de unidad que sus organizadores consideran «profundamente simbólico». \nEl acto girará en torno a una lectura proclamada del Credo niceno y de una declaración conjunta que busca «traducir el Credo a la situación actual». Según explicó el director del Secretariado para las Relaciones Interconfesionales de la CEE\, Rafael Vázquez\, el texto aborda qué significa hoy afirmar que Dios es Padre —y\, por tanto\, reconocer la dignidad de toda persona humana— y qué implica declarar que Cristo es Hijo. «Cristo vive\, no es solo un personaje histórico»\, subrayó. \nUna celebración que une historia y presente\nPara Ramón Darío Valdivia\, obispo auxiliar de Sevilla y presidente de la Subcomisión para las Relaciones Interconfesionales\, conmemorar este aniversario en la Almudena constituye «un signo de esperanza» en un mundo marcado por la polarización. Valdivia insistió en que la unidad cristiana «no es una estrategia\, sino una petición del Señor». \nLa ceremonia se estructurará en cuatro partes con lecturas\, silencios y música del compositor Toño Casado\, convirtiendo la catedral madrileña en un espacio de oración compartida entre tradiciones históricamente separadas. Participarán representantes del Patriarcado Ecuménico\, de las Iglesias ortodoxas de Rumanía\, Moscú\, Serbia o Armenia\, así como comunidades anglicanas\, luteranas\, reformadas y diversas iglesias evangélicas integradas en FEREDE. \nCompromiso por la unidad desde la Almudena\nDurante la celebración se leerá la declaración conjunta en la que las Iglesias expresan su voluntad de «dejar de ser un plural para ser una única Iglesia»\, y reivindican su misión común de «anunciar a Cristo en un mundo secularizado». Vázquez calificó la división cristiana como «una situación anómala que resta credibilidad al mensaje». \nEn este contexto\, Valdivia anunció que la Iglesia católica está dispuesta a estudiar un cambio de la fecha de la Pascua si así lo acuerdan las Iglesias ortodoxas\, recordando que las dificultades actuales «no son teológicas\, sino de calendario». Una celebración que pretende mostrar que la comunión cristiana avanza\, pese a los retos y desafíos\, y que las Iglesias están comprometidas a trabajar juntas en lo esencial.
URL:https://realesclavitudalmudena.com/evento/la-catedral-de-la-almudena-acoge-una-celebracion-ecumenica-historica-por-los-1-700-anos-del-concilio-de-nicea
CATEGORIES:Catedral de la Almudena
ATTACH;FMTTYPE=image/jpeg:https://realesclavitudalmudena.com/wp-content/uploads/2025/11/G5sxWcbX0AAD_a6.jpeg
END:VEVENT
BEGIN:VEVENT
DTSTART;TZID=Europe/Madrid:20251122T100000
DTEND;TZID=Europe/Madrid:20251122T130000
DTSTAMP:20260421T215719
CREATED:20251117T171241Z
LAST-MODIFIED:20251117T171930Z
UID:11125-1763805600-1763816400@realesclavitudalmudena.com
SUMMARY:RETIRO DE LA REAL ESCLAVITUD 22 DE NOVIEMBRE 2025
DESCRIPTION:Sábado 22 de Noviembre de 2025 a las 10:00 horas en la Capilla del Santísimo de la Catedral de Santa María la Real de la Almudena.\nTras el retiro Sabatina Jubilar a las 12:00 horas en la Catedral de Santa María la Real de la Almudena.
URL:https://realesclavitudalmudena.com/evento/retiro-de-la-real-esclavitud-22-de-noviembre-2025
ATTACH;FMTTYPE=image/jpeg:https://realesclavitudalmudena.com/wp-content/uploads/2025/11/580507401_868525935750673_293921179339853846_n.jpg
END:VEVENT
BEGIN:VEVENT
DTSTART;TZID=Europe/Madrid:20251127T173000
DTEND;TZID=Europe/Madrid:20251127T200000
DTSTAMP:20260421T215719
CREATED:20251125T214739Z
LAST-MODIFIED:20251125T220930Z
UID:11265-1764264600-1764273600@realesclavitudalmudena.com
SUMMARY:Cada año la Real Esclavitud preparamos junto al Apostolado Seglar esta Adoración del mes de noviembre en la cripta de la Almudena.
DESCRIPTION:¡Os invitamos!!\n17:30 Adoración Eucaristica\n18:30 Misa
URL:https://realesclavitudalmudena.com/evento/cada-ano-la-real-esclavitud-preparamos-junto-al-apostolado-seglar-esta-adoracion-del-mes-de-noviembre-en-la-cripta-de-la-almudena
CATEGORIES:Actos Congregación de la Real Esclavitud de la Almudena,Catedral de la Almudena
END:VEVENT
BEGIN:VEVENT
DTSTART;VALUE=DATE:20251130
DTEND;VALUE=DATE:20251201
DTSTAMP:20260421T215719
CREATED:20251125T215256Z
LAST-MODIFIED:20251125T220908Z
UID:11268-1764460800-1764547199@realesclavitudalmudena.com
SUMMARY:I DOMINGO DE ADVIENTO
DESCRIPTION:La Iglesia nos propone un tiempo de preparación llamado Adviento\, que quiere decir ”venida”.
URL:https://realesclavitudalmudena.com/evento/i-domingo-de-adviento
CATEGORIES:Actos Congregación de la Real Esclavitud de la Almudena,Catedral de la Almudena
ATTACH;FMTTYPE=image/jpeg:https://realesclavitudalmudena.com/wp-content/uploads/2025/11/589173362_878876268048973_1016916808454453789_n.jpg
END:VEVENT
BEGIN:VEVENT
DTSTART;TZID=Europe/Madrid:20251206T080000
DTEND;TZID=Europe/Madrid:20251206T170000
DTSTAMP:20260421T215719
CREATED:20251125T220211Z
LAST-MODIFIED:20251125T220851Z
UID:11271-1765008000-1765040400@realesclavitudalmudena.com
SUMMARY:Rosario de la Aurora
DESCRIPTION:Delante de la imagen de la Virgen de la Almudena que se encuentra en la Cuesta de la Vega donde se descubrió la imagen
URL:https://realesclavitudalmudena.com/evento/rosario-de-la-aurora-2
CATEGORIES:Actos Congregación de la Real Esclavitud de la Almudena,Catedral de la Almudena
END:VEVENT
BEGIN:VEVENT
DTSTART;TZID=Europe/Madrid:20251207T210000
DTEND;TZID=Europe/Madrid:20251207T223000
DTSTAMP:20260421T215719
CREATED:20251125T220637Z
LAST-MODIFIED:20251125T220637Z
UID:11274-1765141200-1765146600@realesclavitudalmudena.com
SUMMARY:VIGILIA DE LA INMACULADA.
DESCRIPTION:Celebramos con la Inmaculada a la Patrona de España. (La Advocación del Pilar es de la Hispanidad)
URL:https://realesclavitudalmudena.com/evento/vigilia-de-la-inmaculada-2
CATEGORIES:Actos Congregación de la Real Esclavitud de la Almudena,Catedral de la Almudena
ATTACH;FMTTYPE=image/jpeg:https://realesclavitudalmudena.com/wp-content/uploads/2025/11/WhatsApp-Image-2025-11-22-at-16.02.56.jpeg
END:VEVENT
BEGIN:VEVENT
DTSTART;TZID=Europe/Madrid:20251209T183000
DTEND;TZID=Europe/Madrid:20251209T200000
DTSTAMP:20260421T215719
CREATED:20251122T133938Z
LAST-MODIFIED:20260411T000438Z
UID:11200-1765305000-1765310400@realesclavitudalmudena.com
SUMMARY:MISA DE LA CONGREGACIÓN DEL MES DE DICIEMBRE
DESCRIPTION:Queridos Congregantes\, fieles y devotos.\n18:30 Rosario\n\n\nComo cada 9 de mes a las 19:00 horas\, nuestra Congregación celebrará Santa Misa en la Catedral de Santa María la Real de la Almudena.\n\n\nAnimamos a todos a encontrarnos en la unión de la Eucaristía como modo de fomentar la devoción a nuestra Madre\, Santa María la Real de la Almudena.\n\n\n¡¡OS ESPERAMOS!!
URL:https://realesclavitudalmudena.com/evento/misa-de-la-congregacion-del-mes-de-diciembre
CATEGORIES:Actos Congregación de la Real Esclavitud de la Almudena
END:VEVENT
END:VCALENDAR