BEGIN:VCALENDAR
VERSION:2.0
PRODID:-//Real Esclavitud - ECPv6.15.20//NONSGML v1.0//EN
CALSCALE:GREGORIAN
METHOD:PUBLISH
X-WR-CALNAME:Real Esclavitud
X-ORIGINAL-URL:https://realesclavitudalmudena.com
X-WR-CALDESC:Eventos para Real Esclavitud
REFRESH-INTERVAL;VALUE=DURATION:PT1H
X-Robots-Tag:noindex
X-PUBLISHED-TTL:PT1H
BEGIN:VTIMEZONE
TZID:Europe/Madrid
BEGIN:STANDARD
TZOFFSETFROM:+0100
TZOFFSETTO:+0100
TZNAME:CET
DTSTART:19690101T000000
END:STANDARD
END:VTIMEZONE
BEGIN:VEVENT
DTSTART;TZID=Europe/Madrid:20260419T181228
DTEND;TZID=Europe/Madrid:20260419T181228
DTSTAMP:20260419T181228
CREATED:20210211T120956Z
LAST-MODIFIED:20210211T120956Z
UID:3959-0-0@realesclavitudalmudena.com
SUMMARY:EUCARÍSTIA EN LA CATEDRAL "Contagia solidaridad para acabar con el hambre"
DESCRIPTION:EUCARÍSTIA  a  las 10:30 horas\, el cardenal Carlos Osoro\, arzobispo de Madrid\, presidirá una Misa con motivo de la campaña de Manos Unidas “CONTAGIA SOLIDARIDAD PARA ACABAR CON EL HAMBRE” en la catedral de Santa María la Real de la Almudena. Podrá seguirse por La 2 de TVE.
URL:https://realesclavitudalmudena.com/evento/eucaristia-en-la-catedral-contagia-solidaridad-para-acabar-con-el-hambre
CATEGORIES:Catedral de la Almudena,Don Carlos Osoro
END:VEVENT
BEGIN:VEVENT
DTSTART;TZID=Europe/Madrid:20260419T181228
DTEND;TZID=Europe/Madrid:20260419T181228
DTSTAMP:20260419T181228
CREATED:20210210T122806Z
LAST-MODIFIED:20210211T123131Z
UID:3968-0-0@realesclavitudalmudena.com
SUMMARY:
DESCRIPTION:Este domingo\, 14 de febrero\, a las 10:30 horas\, el cardenal Carlos Osoro\, arzobispo de Madrid\, presidirá una Misa con motivo de la campaña DE MANOS UNIDAS ” Contagia solidaridad para acabar con el hambre. en la catedral de Santa María la Real de la Almudena. será restransmitida por TVE  2 \nPodrá seguirse por La 2 de TVE.
URL:https://realesclavitudalmudena.com/evento/3968
CATEGORIES:Catedral de la Almudena,Don Carlos Osoro
END:VEVENT
BEGIN:VEVENT
DTSTART;TZID=Europe/Madrid:20260419T181228
DTEND;TZID=Europe/Madrid:20260419T181228
DTSTAMP:20260419T181228
CREATED:20210105T194132Z
LAST-MODIFIED:20210117T194407Z
UID:3909-0-0@realesclavitudalmudena.com
SUMMARY:«Acércate como los Magos a Aquel que nació de la Virgen para darnos Luz y Vida»
DESCRIPTION:En el marco de las celebraciones navideñas en la catedral\, el arzobispo de Madrid presidirá este miércoles\, 6 de enero\, a las 12:00 horas\, la Eucaristía de la Epifanía del Señor. La Misa\, que se desarrollará conforme a las pautas de las autoridades sanitarias\, también podrá seguirse en directo por el canal de YouTube del Arzobispado
URL:https://realesclavitudalmudena.com/evento/acercate-como-los-magos-a-aquel-que-nacio-de-la-virgen-para-darnos-luz-y-vida-2
CATEGORIES:Catedral de la Almudena,Don Carlos Osoro
END:VEVENT
BEGIN:VEVENT
DTSTART;TZID=Europe/Madrid:20260419T181228
DTEND;TZID=Europe/Madrid:20260419T181228
DTSTAMP:20260419T181228
CREATED:20210105T193703Z
LAST-MODIFIED:20210117T193952Z
UID:3907-0-0@realesclavitudalmudena.com
SUMMARY:«Acércate como los Magos a Aquel que nació de la Virgen para darnos Luz y Vida»
DESCRIPTION:En el marco de las celebraciones navideñas en la catedral\, el arzobispo de Madrid presidirá este miércoles\, 6 de enero\, a las 12:00 horas\, la Eucaristía de la Epifanía del Señor. La Misa\, que se desarrollará conforme a las pautas de las autoridades sanitarias\, también podrá seguirse en directo por el canal de YouTube del Arzobispado.
URL:https://realesclavitudalmudena.com/evento/acercate-como-los-magos-a-aquel-que-nacio-de-la-virgen-para-darnos-luz-y-vida
CATEGORIES:Catedral de la Almudena,Don Carlos Osoro
END:VEVENT
BEGIN:VEVENT
DTSTART;TZID=Europe/Madrid:20260419T181228
DTEND;TZID=Europe/Madrid:20260419T181228
DTSTAMP:20260419T181228
CREATED:20210103T200227Z
LAST-MODIFIED:20210117T200705Z
UID:3913-0-0@realesclavitudalmudena.com
SUMMARY:«Acércate como los Magos a Aquel que nació de la Virgen para darnos Luz y Vida»
DESCRIPTION:En el marco de las celebraciones navideñas en la catedral\, el arzobispo de Madrid presidirá este miércoles\, 6 de enero\, a las 12:00 horas\, la Eucaristía de la Epifanía del Señor. La Misa\, que se desarrollará conforme a las pautas de las autoridades sanitarias\, también podrá seguirse en directo por el canal de YouTube del Arzobispado.
URL:https://realesclavitudalmudena.com/evento/acercate-como-los-magos-a-aquel-que-nacio-de-la-virgen-para-darnos-luz-y-vida-4
CATEGORIES:Catedral de la Almudena,Don Carlos Osoro
END:VEVENT
BEGIN:VEVENT
DTSTART;TZID=Europe/Madrid:20260419T181228
DTEND;TZID=Europe/Madrid:20260419T181228
DTSTAMP:20260419T181228
CREATED:20201205T180759Z
LAST-MODIFIED:20201206T181407Z
UID:3837-0-0@realesclavitudalmudena.com
SUMMARY:Solemnidad de la Inmaculada Concepción día 8 de diciembre de 2020
DESCRIPTION:Ya el 8 de diciembre\, solemnidad de la Inmaculada Concepción\, el arzobispo presidirá una Eucaristía en la catedral de Santa María la Real de la Almudena a las 12:00 horas. Será emitida en directo por TRECE. \nCelebraciones en otros templos \nSon muchos los templos de la diócesis que se vuelcan en esta fiesta. Pueden consultarse las novenas\, vigilias y Misas en este enlace.
URL:https://realesclavitudalmudena.com/evento/solemnidad-de-la-inmaculada-concepcion-dia-8-de-diciembre-de-2020
CATEGORIES:Catedral de la Almudena,Don Carlos Osoro
END:VEVENT
BEGIN:VEVENT
DTSTART;TZID=Europe/Madrid:20260419T181228
DTEND;TZID=Europe/Madrid:20260419T181228
DTSTAMP:20260419T181228
CREATED:20201119T183525Z
LAST-MODIFIED:20201120T185519Z
UID:3814-0-0@realesclavitudalmudena.com
SUMMARY:DÍA 21 DE NOVIEMBRE DE 2020\, XI JORNADA SOCIAL DIOCESANA
DESCRIPTION:Dia 21 de noviembre de 2020 sábado\,  Celebrará  la XI Jornada Social Diocesana\, de forma virtual. \nJORNADA MUNDIAL DE LOS POBRES.   \n10\,30 horas\,  ORACIÓN  presidida por el Arzobispo de Madrid\, Cardenal Carlos Osoro\, \n10\,45 horas\,  “LECCIONES APRENDIDAS Y OLVIDADAS DE LA PANDEMIA”  Agustín Serrano de Haro\, filósofo titular del Consejo Superior de Investigaciones Científicas (CSIC). \n11\,40 horas\, “DESAFÍOS SOCIALES PARA LA IGLESIA”\, Mesa experiencias de la Delegación de Jóvenes. \n12\,00  horas Clausura. \nla jornada podrá seguirse en directo por el canal de Youtube de la diócesis. \n 
URL:https://realesclavitudalmudena.com/evento/dia-21-de-noviembre-de-2020-xi-jornada-social-diocesana
CATEGORIES:Catedral de la Almudena,Don Carlos Osoro
END:VEVENT
BEGIN:VEVENT
DTSTART;TZID=Europe/Madrid:20260419T181228
DTEND;TZID=Europe/Madrid:20260419T181228
DTSTAMP:20260419T181228
CREATED:20201027T202856Z
LAST-MODIFIED:20201027T202901Z
UID:3698-0-0@realesclavitudalmudena.com
SUMMARY:EUCARISTÍA DÍA 9 DE NOVIEMBRE EN HONOR DE NUESTRA PATRONA LA VIRGEN DE LA ALMUDENA
DESCRIPTION:El lunes 9 de Noviembre la Eucaristía mayor será a las 11 horas en la Catedral (C/Bailén\, 10). Se ruega este año con nuestra mayor tristeza y de forma excepcional para proteger la salud de los miembros de la congregación y también por las restricciones de aforo que estamos obligados\, que se siga a través de la televisión (TELEMADRID)\, e internet y no se acuda a la Catedral.
URL:https://realesclavitudalmudena.com/evento/eucaristia-dia-9-de-noviembre-en-honor-de-nuestra-patrona-la-virgen-de-la-almudena
CATEGORIES:Catedral de la Almudena,Don Carlos Osoro
END:VEVENT
BEGIN:VEVENT
DTSTART;TZID=Europe/Madrid:20260419T181228
DTEND;TZID=Europe/Madrid:20260419T181228
DTSTAMP:20260419T181228
CREATED:20201027T202409Z
LAST-MODIFIED:20201027T202417Z
UID:3696-0-0@realesclavitudalmudena.com
SUMMARY:EUCARISTÍA EN HONOR DE NUESTRA PATRONA LA REAL ALMUDENA DÍA 9 DE NOVIEMBRE DE 2020
DESCRIPTION:El lunes 9 de Noviembre la Eucaristía mayor será a las 11 Horas en la Catedral (C/Bailén\, 10). Se ruega este año con nuestra mayor tristeza y de forma excepcional para proteger la salud de los miembros de la congregación y también por las restricciones de aforo que estamos obligados\, que se siga a través de la televisión (TELEMADRID)\, e internet y no se acuda a la Catedral. GRACIAS
URL:https://realesclavitudalmudena.com/evento/eucaristia-en-honor-de-nuestra-patrona-la-real-almudena-dia-9-de-noviembre-de-2020
CATEGORIES:Catedral de la Almudena,Don Carlos Osoro
END:VEVENT
BEGIN:VEVENT
DTSTART;TZID=Europe/Madrid:20260419T181228
DTEND;TZID=Europe/Madrid:20260419T181228
DTSTAMP:20260419T181228
CREATED:20201027T200017Z
LAST-MODIFIED:20201027T203425Z
UID:3700-0-0@realesclavitudalmudena.com
SUMMARY:EUCARISTÍA EL DÍA 9 DE NOVIEMBRE\, EN HONOR DE NUESTRA PATRONA LA REAL ALMUDENA
DESCRIPTION:El lunes 9 de Noviembre la eucaristía mayor será a las 11 horas en la Catedral (C/Bailén\, 10). Se ruega este año con nuestra mayor tristeza y de forma excepcional para proteger la salud de los miembros de la congregación y también por las restricciones de aforo que estamos obligados\, que se siga a través de la televisión (TELEMADRID)\, e internet y no se acuda a la Catedral.
URL:https://realesclavitudalmudena.com/evento/eucaristia-el-dia-9-de-noviembre-en-honor-de-nuestra-patrona-la-real-almudena
CATEGORIES:Catedral de la Almudena,Don Carlos Osoro
END:VEVENT
BEGIN:VEVENT
DTSTART;TZID=Europe/Madrid:20260419T181228
DTEND;TZID=Europe/Madrid:20260419T181228
DTSTAMP:20260419T181228
CREATED:20200701T192923Z
LAST-MODIFIED:20200701T192923Z
UID:3609-0-0@realesclavitudalmudena.com
SUMMARY:El Colegio Oficial de Arquitectos celebra una Misa en la catedral por los fallecidos durante la pandemia
DESCRIPTION:La catedral de Santa María la Real de la Almudena acogerá una Misa funeral por los fallecidos durante la pandemia organizada por el Colegio Oficial de Arquitectos de Madrid. \nPresidida por el cardenal Carlos Osoro\, arzobispo de Madrid\, dará comienzo a las 19:00 horas del viernes 3 de julio. \n\n\n\n\n\n\nInfomadrid
URL:https://realesclavitudalmudena.com/evento/el-colegio-oficial-de-arquitectos-celebra-una-misa-en-la-catedral-por-los-fallecidos-durante-la-pandemia
CATEGORIES:Catedral de la Almudena,Don Carlos Osoro
END:VEVENT
BEGIN:VEVENT
DTSTART;TZID=Europe/Madrid:20260419T181228
DTEND;TZID=Europe/Madrid:20260419T181228
DTSTAMP:20260419T181228
CREATED:20200701T191510Z
LAST-MODIFIED:20200701T191510Z
UID:3604-0-0@realesclavitudalmudena.com
SUMMARY:La catedral acoge una Misa funeral por las víctimas de la pandemia organizada por la CEE
DESCRIPTION:En el marco de la reunión de la Comisión Permanente de la Conferencia Episcopal Española (CEE)\, la catedral de Santa María la Real de la Almudena acogerá una Misa funeral por las víctimas de la pandemia del COVID-19 el lunes 6 de julio a las 20:00 horas. Presidida por el cardenal Carlos Osoro\, arzobispo de Madrid y vicepresidente de la CEE\, y concelebrada por los miembros de la comisión\, también podrá seguirse en directo por TRECE.
URL:https://realesclavitudalmudena.com/evento/la-catedral-acoge-una-misa-funeral-por-las-victimas-de-la-pandemia-organizada-por-la-cee-4
CATEGORIES:Catedral de la Almudena,Don Carlos Osoro
END:VEVENT
BEGIN:VEVENT
DTSTART;TZID=Europe/Madrid:20260419T181228
DTEND;TZID=Europe/Madrid:20260419T181228
DTSTAMP:20260419T181228
CREATED:20200701T180019Z
LAST-MODIFIED:20200701T191841Z
UID:3528-0-0@realesclavitudalmudena.com
SUMMARY:La catedral acoge una Misa funeral por las víctimas de la pandemia organizada por la CEE
DESCRIPTION:En el marco de la reunión de la Comisión Permanente de la Conferencia Episcopal Española (CEE)\, la catedral de Santa María la Real de la Almudena acogerá una Misa funeral por las víctimas de la pandemia del COVID-19 el lunes 6 de julio a las 20:00 horas. Presidida por el cardenal Carlos Osoro\, arzobispo de Madrid y vicepresidente de la CEE\, y concelebrada por los miembros de la comisión\, también podrá seguirse en directo por TRECE. \n\n\n\n\n\n\nInfomadrid
URL:https://realesclavitudalmudena.com/evento/la-catedral-acoge-una-misa-funeral-por-las-victimas-de-la-pandemia-organizada-por-la-cee-3
CATEGORIES:Catedral de la Almudena,Don Carlos Osoro
END:VEVENT
BEGIN:VEVENT
DTSTART;TZID=Europe/Madrid:20260419T181228
DTEND;TZID=Europe/Madrid:20260419T181228
DTSTAMP:20260419T181228
CREATED:20200630T180723Z
LAST-MODIFIED:20200630T180734Z
UID:3525-0-0@realesclavitudalmudena.com
SUMMARY:La catedral acoge una Misa funeral por las víctimas de la pandemia organizada por la CEE
DESCRIPTION:La catedral de Santa María la Real de la Almudena acogerá una Misa funeral por las víctimas de la pandemia del COVID-19 el lunes 6 de julio a las 20:00 horas. Presidida por el cardenal Carlos Osoro\, arzobispo de Madrid y vicepresidente de la CEE\, y concelebrada por los miembros de la comisión\, también podrá seguirse en directo por TRECE.
URL:https://realesclavitudalmudena.com/evento/la-catedral-acoge-una-misa-funeral-por-las-victimas-de-la-pandemia-organizada-por-la-cee-2
CATEGORIES:Catedral de la Almudena,Don Carlos Osoro
END:VEVENT
BEGIN:VEVENT
DTSTART;TZID=Europe/Madrid:20260419T181228
DTEND;TZID=Europe/Madrid:20260419T181228
DTSTAMP:20260419T181228
CREATED:20200630T175546Z
LAST-MODIFIED:20200630T180202Z
UID:3518-0-0@realesclavitudalmudena.com
SUMMARY:La catedral acoge una Misa funeral por las víctimas de la pandemia organizada por la CEE
DESCRIPTION:En el marco de la reunión de la Comisión Permanente de la Conferencia Episcopal Española (CEE)\, la catedral de Santa María la Real de la Almudena acogerá una Misa funeral por las víctimas de la pandemia del COVID-19 el lunes 6 de julio a las 20:00 horas. Presidida por el cardenal Carlos Osoro\, arzobispo de Madrid y vicepresidente de la CEE\, y concelebrada por los miembros de la comisión\, también podrá seguirse en directo por TRECE.
URL:https://realesclavitudalmudena.com/evento/la-catedral-acoge-una-misa-funeral-por-las-victimas-de-la-pandemia-organizada-por-la-cee
CATEGORIES:Catedral de la Almudena,Don Carlos Osoro
END:VEVENT
BEGIN:VEVENT
DTSTART;TZID=Europe/Madrid:20260419T181228
DTEND;TZID=Europe/Madrid:20260419T181228
DTSTAMP:20260419T181228
CREATED:20200612T194907Z
LAST-MODIFIED:20200612T194907Z
UID:3460-0-0@realesclavitudalmudena.com
SUMMARY:Día  9 de Junio de 2020. Se reúne la Real Esclavitud\, después de 3 meses.
DESCRIPTION:Se reúne la Real Esclavitud el día 9 de junio de 2020\, a las 7 de la tarde\, a los pies de la Virgen de la Almudena\, después de tres meses de confinamiento por la pandemia. Eucaristía presidida por Don Jesús Junquera\, estaremos unidos en la oración para recordar a nuestros hermanos fallecidos\, y también\, pediremos a Nuestra Madre por todos los enfermos de esta terrible pandemia\,  para su pronta recuperación. OS ESPERAMOS.
URL:https://realesclavitudalmudena.com/evento/dia-9-de-junio-de-2020-se-reune-la-real-esclavitud-despues-de-3-meses-2
END:VEVENT
BEGIN:VEVENT
DTSTART;TZID=Europe/Madrid:20260419T181228
DTEND;TZID=Europe/Madrid:20260419T181228
DTSTAMP:20260419T181228
CREATED:20200612T193720Z
LAST-MODIFIED:20200612T193720Z
UID:3457-0-0@realesclavitudalmudena.com
SUMMARY:Día  9 de Junio de 2020. Se reúne la Real Esclavitud\, después de 3 meses.
DESCRIPTION:Se reúne el día 9 de junio\,  la Real Esclavitud a los pies de Nuestra Madre\, después de 3 meses de confinamiento en casa por la pandemia. Eucaristía a las 7 de la tarde\, presidida por Don Jesús Junquera. Unidos en la oración por todos los fallecidos\, y también para pedir por la recuperación de los enfermos del COVID-19
URL:https://realesclavitudalmudena.com/evento/dia-9-de-junio-de-2020-se-reune-la-real-esclavitud-despues-de-3-meses
CATEGORIES:Catedral de la Almudena
END:VEVENT
BEGIN:VEVENT
DTSTART;TZID=Europe/Madrid:20260419T181228
DTEND;TZID=Europe/Madrid:20260419T181228
DTSTAMP:20260419T181228
CREATED:20200606T195150Z
LAST-MODIFIED:20200612T195903Z
UID:3462-0-0@realesclavitudalmudena.com
SUMMARY:Día  9 de Junio de 2020. Se reúne la Real Esclavitud\, después de 3 meses.
DESCRIPTION:Se reúnen el día 9 de junio a las 7 de la tarde  la Real Esclavitud\, después de tres meses de confinamiento por esta terrible pandemia.  Eucaristía presidida por nuestro Capellán Don Jesús Junquera.  Recordaremos a todos nuestros hermanos fallecidos por la pandemia y unidos en la oración para pedir a nuestra Madre la recuperación de todos los que están enfermos por el coronavirus. OS ESPERAMOS
URL:https://realesclavitudalmudena.com/evento/dia-9-de-junio-de-2020-se-reune-la-real-esclavitud-despues-de-3-meses-3
END:VEVENT
END:VCALENDAR