BEGIN:VCALENDAR
VERSION:2.0
PRODID:-//Real Esclavitud - ECPv6.15.20//NONSGML v1.0//EN
CALSCALE:GREGORIAN
METHOD:PUBLISH
X-WR-CALNAME:Real Esclavitud
X-ORIGINAL-URL:https://realesclavitudalmudena.com
X-WR-CALDESC:Eventos para Real Esclavitud
REFRESH-INTERVAL;VALUE=DURATION:PT1H
X-Robots-Tag:noindex
X-PUBLISHED-TTL:PT1H
BEGIN:VTIMEZONE
TZID:Europe/Madrid
BEGIN:STANDARD
TZOFFSETFROM:+0100
TZOFFSETTO:+0100
TZNAME:CET
DTSTART:19690101T000000
END:STANDARD
END:VTIMEZONE
BEGIN:VEVENT
DTSTART;TZID=Europe/Madrid:20260419T223848
DTEND;TZID=Europe/Madrid:20260419T223848
DTSTAMP:20260419T223848
CREATED:20200701T192923Z
LAST-MODIFIED:20200701T192923Z
UID:3609-0-0@realesclavitudalmudena.com
SUMMARY:El Colegio Oficial de Arquitectos celebra una Misa en la catedral por los fallecidos durante la pandemia
DESCRIPTION:La catedral de Santa María la Real de la Almudena acogerá una Misa funeral por los fallecidos durante la pandemia organizada por el Colegio Oficial de Arquitectos de Madrid. \nPresidida por el cardenal Carlos Osoro\, arzobispo de Madrid\, dará comienzo a las 19:00 horas del viernes 3 de julio. \n\n\n\n\n\n\nInfomadrid
URL:https://realesclavitudalmudena.com/evento/el-colegio-oficial-de-arquitectos-celebra-una-misa-en-la-catedral-por-los-fallecidos-durante-la-pandemia
CATEGORIES:Catedral de la Almudena,Don Carlos Osoro
END:VEVENT
BEGIN:VEVENT
DTSTART;TZID=Europe/Madrid:20260419T223848
DTEND;TZID=Europe/Madrid:20260419T223848
DTSTAMP:20260419T223848
CREATED:20200701T191510Z
LAST-MODIFIED:20200701T191510Z
UID:3604-0-0@realesclavitudalmudena.com
SUMMARY:La catedral acoge una Misa funeral por las víctimas de la pandemia organizada por la CEE
DESCRIPTION:En el marco de la reunión de la Comisión Permanente de la Conferencia Episcopal Española (CEE)\, la catedral de Santa María la Real de la Almudena acogerá una Misa funeral por las víctimas de la pandemia del COVID-19 el lunes 6 de julio a las 20:00 horas. Presidida por el cardenal Carlos Osoro\, arzobispo de Madrid y vicepresidente de la CEE\, y concelebrada por los miembros de la comisión\, también podrá seguirse en directo por TRECE.
URL:https://realesclavitudalmudena.com/evento/la-catedral-acoge-una-misa-funeral-por-las-victimas-de-la-pandemia-organizada-por-la-cee-4
CATEGORIES:Catedral de la Almudena,Don Carlos Osoro
END:VEVENT
BEGIN:VEVENT
DTSTART;TZID=Europe/Madrid:20260419T223848
DTEND;TZID=Europe/Madrid:20260419T223848
DTSTAMP:20260419T223848
CREATED:20200701T180019Z
LAST-MODIFIED:20200701T191841Z
UID:3528-0-0@realesclavitudalmudena.com
SUMMARY:La catedral acoge una Misa funeral por las víctimas de la pandemia organizada por la CEE
DESCRIPTION:En el marco de la reunión de la Comisión Permanente de la Conferencia Episcopal Española (CEE)\, la catedral de Santa María la Real de la Almudena acogerá una Misa funeral por las víctimas de la pandemia del COVID-19 el lunes 6 de julio a las 20:00 horas. Presidida por el cardenal Carlos Osoro\, arzobispo de Madrid y vicepresidente de la CEE\, y concelebrada por los miembros de la comisión\, también podrá seguirse en directo por TRECE. \n\n\n\n\n\n\nInfomadrid
URL:https://realesclavitudalmudena.com/evento/la-catedral-acoge-una-misa-funeral-por-las-victimas-de-la-pandemia-organizada-por-la-cee-3
CATEGORIES:Catedral de la Almudena,Don Carlos Osoro
END:VEVENT
BEGIN:VEVENT
DTSTART;TZID=Europe/Madrid:20260419T223848
DTEND;TZID=Europe/Madrid:20260419T223848
DTSTAMP:20260419T223848
CREATED:20200630T180723Z
LAST-MODIFIED:20200630T180734Z
UID:3525-0-0@realesclavitudalmudena.com
SUMMARY:La catedral acoge una Misa funeral por las víctimas de la pandemia organizada por la CEE
DESCRIPTION:La catedral de Santa María la Real de la Almudena acogerá una Misa funeral por las víctimas de la pandemia del COVID-19 el lunes 6 de julio a las 20:00 horas. Presidida por el cardenal Carlos Osoro\, arzobispo de Madrid y vicepresidente de la CEE\, y concelebrada por los miembros de la comisión\, también podrá seguirse en directo por TRECE.
URL:https://realesclavitudalmudena.com/evento/la-catedral-acoge-una-misa-funeral-por-las-victimas-de-la-pandemia-organizada-por-la-cee-2
CATEGORIES:Catedral de la Almudena,Don Carlos Osoro
END:VEVENT
BEGIN:VEVENT
DTSTART;TZID=Europe/Madrid:20260419T223848
DTEND;TZID=Europe/Madrid:20260419T223848
DTSTAMP:20260419T223848
CREATED:20200630T175546Z
LAST-MODIFIED:20200630T180202Z
UID:3518-0-0@realesclavitudalmudena.com
SUMMARY:La catedral acoge una Misa funeral por las víctimas de la pandemia organizada por la CEE
DESCRIPTION:En el marco de la reunión de la Comisión Permanente de la Conferencia Episcopal Española (CEE)\, la catedral de Santa María la Real de la Almudena acogerá una Misa funeral por las víctimas de la pandemia del COVID-19 el lunes 6 de julio a las 20:00 horas. Presidida por el cardenal Carlos Osoro\, arzobispo de Madrid y vicepresidente de la CEE\, y concelebrada por los miembros de la comisión\, también podrá seguirse en directo por TRECE.
URL:https://realesclavitudalmudena.com/evento/la-catedral-acoge-una-misa-funeral-por-las-victimas-de-la-pandemia-organizada-por-la-cee
CATEGORIES:Catedral de la Almudena,Don Carlos Osoro
END:VEVENT
BEGIN:VEVENT
DTSTART;TZID=Europe/Madrid:20260419T223848
DTEND;TZID=Europe/Madrid:20260419T223848
DTSTAMP:20260419T223848
CREATED:20200612T194907Z
LAST-MODIFIED:20200612T194907Z
UID:3460-0-0@realesclavitudalmudena.com
SUMMARY:Día  9 de Junio de 2020. Se reúne la Real Esclavitud\, después de 3 meses.
DESCRIPTION:Se reúne la Real Esclavitud el día 9 de junio de 2020\, a las 7 de la tarde\, a los pies de la Virgen de la Almudena\, después de tres meses de confinamiento por la pandemia. Eucaristía presidida por Don Jesús Junquera\, estaremos unidos en la oración para recordar a nuestros hermanos fallecidos\, y también\, pediremos a Nuestra Madre por todos los enfermos de esta terrible pandemia\,  para su pronta recuperación. OS ESPERAMOS.
URL:https://realesclavitudalmudena.com/evento/dia-9-de-junio-de-2020-se-reune-la-real-esclavitud-despues-de-3-meses-2
END:VEVENT
BEGIN:VEVENT
DTSTART;TZID=Europe/Madrid:20260419T223848
DTEND;TZID=Europe/Madrid:20260419T223848
DTSTAMP:20260419T223848
CREATED:20200612T193720Z
LAST-MODIFIED:20200612T193720Z
UID:3457-0-0@realesclavitudalmudena.com
SUMMARY:Día  9 de Junio de 2020. Se reúne la Real Esclavitud\, después de 3 meses.
DESCRIPTION:Se reúne el día 9 de junio\,  la Real Esclavitud a los pies de Nuestra Madre\, después de 3 meses de confinamiento en casa por la pandemia. Eucaristía a las 7 de la tarde\, presidida por Don Jesús Junquera. Unidos en la oración por todos los fallecidos\, y también para pedir por la recuperación de los enfermos del COVID-19
URL:https://realesclavitudalmudena.com/evento/dia-9-de-junio-de-2020-se-reune-la-real-esclavitud-despues-de-3-meses
CATEGORIES:Catedral de la Almudena
END:VEVENT
BEGIN:VEVENT
DTSTART;TZID=Europe/Madrid:20260419T223848
DTEND;TZID=Europe/Madrid:20260419T223848
DTSTAMP:20260419T223848
CREATED:20200606T195150Z
LAST-MODIFIED:20200612T195903Z
UID:3462-0-0@realesclavitudalmudena.com
SUMMARY:Día  9 de Junio de 2020. Se reúne la Real Esclavitud\, después de 3 meses.
DESCRIPTION:Se reúnen el día 9 de junio a las 7 de la tarde  la Real Esclavitud\, después de tres meses de confinamiento por esta terrible pandemia.  Eucaristía presidida por nuestro Capellán Don Jesús Junquera.  Recordaremos a todos nuestros hermanos fallecidos por la pandemia y unidos en la oración para pedir a nuestra Madre la recuperación de todos los que están enfermos por el coronavirus. OS ESPERAMOS
URL:https://realesclavitudalmudena.com/evento/dia-9-de-junio-de-2020-se-reune-la-real-esclavitud-despues-de-3-meses-3
END:VEVENT
END:VCALENDAR