BEGIN:VCALENDAR
VERSION:2.0
PRODID:-//Real Esclavitud - ECPv6.15.20//NONSGML v1.0//EN
CALSCALE:GREGORIAN
METHOD:PUBLISH
X-WR-CALNAME:Real Esclavitud
X-ORIGINAL-URL:https://realesclavitudalmudena.com
X-WR-CALDESC:Eventos para Real Esclavitud
REFRESH-INTERVAL;VALUE=DURATION:PT1H
X-Robots-Tag:noindex
X-PUBLISHED-TTL:PT1H
BEGIN:VTIMEZONE
TZID:Europe/Madrid
BEGIN:DAYLIGHT
TZOFFSETFROM:+0100
TZOFFSETTO:+0200
TZNAME:CEST
DTSTART:20230326T010000
END:DAYLIGHT
BEGIN:STANDARD
TZOFFSETFROM:+0200
TZOFFSETTO:+0100
TZNAME:CET
DTSTART:20231029T010000
END:STANDARD
BEGIN:DAYLIGHT
TZOFFSETFROM:+0100
TZOFFSETTO:+0200
TZNAME:CEST
DTSTART:20240331T010000
END:DAYLIGHT
BEGIN:STANDARD
TZOFFSETFROM:+0200
TZOFFSETTO:+0100
TZNAME:CET
DTSTART:20241027T010000
END:STANDARD
BEGIN:DAYLIGHT
TZOFFSETFROM:+0100
TZOFFSETTO:+0200
TZNAME:CEST
DTSTART:20250330T010000
END:DAYLIGHT
BEGIN:STANDARD
TZOFFSETFROM:+0200
TZOFFSETTO:+0100
TZNAME:CET
DTSTART:20251026T010000
END:STANDARD
END:VTIMEZONE
BEGIN:VEVENT
DTSTART;TZID=Europe/Madrid:20241207T210000
DTEND;TZID=Europe/Madrid:20241207T223000
DTSTAMP:20260421T214757
CREATED:20241206T203625Z
LAST-MODIFIED:20241206T203625Z
UID:7161-1733605200-1733610600@realesclavitudalmudena.com
SUMMARY:La catedral de Santa María la Real de la Almudena acoge este sábado la vigilia de la Inmaculada
DESCRIPTION:Este sábado 7 de diciembre\, se celebrarán vigilias de la Inmaculada. \nCon el lema «María\, consuelo de los afligidos»\, la catedral de Santa María la Real de la Almudena acogerá una vigilia a las 21:00 horas presidida por el obispo auxiliar y electo de Segovia\, Jesús Vidal. «En esta celebración se tendrá muy presente a todas las víctimas de la DANA y de las demás catástrofes naturales que suceden en nuestro mundo»\, recuerda Carlos Aguilar\, delegado episcopal de piedad popular y coordinador de la comisión de evangelización del arzobispado de Madrid.
URL:https://realesclavitudalmudena.com/evento/la-catedral-de-santa-maria-la-real-de-la-almudena-acoge-este-sabado-la-vigilia-de-la-inmaculada
CATEGORIES:Catedral de la Almudena
END:VEVENT
BEGIN:VEVENT
DTSTART;TZID=Europe/Madrid:20241209T070000
DTEND;TZID=Europe/Madrid:20241209T200000
DTSTAMP:20260421T214757
CREATED:20241206T102009Z
LAST-MODIFIED:20241210T102607Z
UID:7187-1733727600-1733774400@realesclavitudalmudena.com
SUMMARY:MISA EN HONOR A LA VIRGEN DE LA ALMUDENA DIA 9 DE DICIEMBRE DE 2024
DESCRIPTION:DÍA 9 DE DICIEMBRE  DE 2024  A LAS 19\,00 HORAS \, COMO TODOS LOS MESES\,  LA REAL ESCLAVITUD\,  TIENE EL HONOR  DE INVITARLES A PARTICIPAR  EN  LA EUCARISTÍA. DE LA VIRGEN DE LA ALMUDENA.  ÙLTIMA DE ESTE  AÑO 2024.  UNIDOS FRATERNAMENTE\, A NUESTRA MADRE.  \nEN SUS MANOS PONEMOS TODAS NUESTRAS INTENCIONES. \nAMEN \n \n¡¡TE  ESPERAMOS!!
URL:https://realesclavitudalmudena.com/evento/7187
CATEGORIES:Catedral de la Almudena
END:VEVENT
BEGIN:VEVENT
DTSTART;TZID=Europe/Madrid:20241216T183000
DTEND;TZID=Europe/Madrid:20241216T200000
DTSTAMP:20260421T214757
CREATED:20241210T104123Z
LAST-MODIFIED:20241210T104304Z
UID:7191-1734373800-1734379200@realesclavitudalmudena.com
SUMMARY:RETIRO DE ADVIENTO DE LA REAL ESCLAVITUD 16 DE DICIEMBRE DE 2024
DESCRIPTION:EL DÍA  16 DE DICIEMBRE DE 2024\, A LAS 18\,30\, CELEBRAMOS EL RETIRO DE ADVIENTO DE LA REAL ESCLAVITUD\, IMPARTE DICHO RETIRO\, DON VICENTE MARTIN OBISPO AUXILIAR DE MADRID. \nQUE LA LUZ DEL ADVIENTO\, ILUMINE NUESTROS CAMINOS Y NOS INSPIRE A COMPARTIR ESA LUZ CON AQUELLOS QUE CAMINAN EN LA OSCURIDAD. \n                !!TE ESPERAMOS CON VUESTROS FAMILIARES¡¡
URL:https://realesclavitudalmudena.com/evento/retiro-de-adviento-de-la-real-esclavitud-16-de-diciembre-de-2024
CATEGORIES:Catedral de la Almudena
END:VEVENT
BEGIN:VEVENT
DTSTART;TZID=Europe/Madrid:20241219T190000
DTEND;TZID=Europe/Madrid:20241219T210000
DTSTAMP:20260421T214757
CREATED:20241210T105920Z
LAST-MODIFIED:20241210T110218Z
UID:7194-1734634800-1734642000@realesclavitudalmudena.com
SUMMARY:CELEBRACIÓN CON EL APOSTOLADO SEGLAR  EN LA CATEDRAL DE LA ALMUDENA
DESCRIPTION:EL DÍA 19 DE DICIEMBRE DE 2024\, JUEVES\, A LAS 19\,00 HORAS.  ESTAMOS INVITADOS A  LA CELEBRACIÓN  DEL  APOSTOLADO SEGLAR. DESPUES DE LA EUCARISTÍA\, COMPARTIREMOS EN FRATERNIDAD\, UNA CHOCOLATADA Y VILLANCICOS. \nCOMO EN AÑOS ANTERIORES\, NOS AGRADECEN QUE LLEVEMOS ESE DÍA LOS SIGUIENTES PRODUCTOS: \n \n                    !!TE ESPERAMOS CON VUESTROS FAMILIARES¡¡
URL:https://realesclavitudalmudena.com/evento/celebracion-con-el-apostolado-seglar-en-la-catedral-de-la-almudena
CATEGORIES:Catedral de la Almudena
END:VEVENT
BEGIN:VEVENT
DTSTART;TZID=Europe/Madrid:20241229T120000
DTEND;TZID=Europe/Madrid:20241229T133000
DTSTAMP:20260421T214757
CREATED:20241220T173346Z
LAST-MODIFIED:20241221T173956Z
UID:7212-1735473600-1735479000@realesclavitudalmudena.com
SUMMARY:Domingo 29 de diciembre de 2024 a las 12:00 h. en la Catedral de la Almudena
DESCRIPTION:JORNADA DE LA SAGRADA FAMILIA 2024 Y APERTURA DEL AÑO JUBILAR.\nCon motivo de la próxima celebración de la Jornada de la Sagrada Familia el domingo 29 de diciembre de 2024 a las 12\,00 horas\, cuyo lema es: «Familia\, fuente de Esperanza»\, y después de la gran aceptación que tuvo el año pasado la entrega del Icono Peregrino de la Sagrada Familia\, este curso volvemos a proponeros que acojáis en vuestras parroquias y hogares esta oportunidad de orar en familia los misterios de la Natividad del Señor. \n \n¡TE ESPERAMOS!
URL:https://realesclavitudalmudena.com/evento/domingo-29-de-diciembre-de-2024-a-las-1200-h-en-la-catedral-de-la-almudena
CATEGORIES:Catedral de la Almudena
END:VEVENT
END:VCALENDAR