BEGIN:VCALENDAR
VERSION:2.0
PRODID:-//Real Esclavitud - ECPv6.15.20//NONSGML v1.0//EN
CALSCALE:GREGORIAN
METHOD:PUBLISH
X-WR-CALNAME:Real Esclavitud
X-ORIGINAL-URL:https://realesclavitudalmudena.com
X-WR-CALDESC:Eventos para Real Esclavitud
REFRESH-INTERVAL;VALUE=DURATION:PT1H
X-Robots-Tag:noindex
X-PUBLISHED-TTL:PT1H
BEGIN:VTIMEZONE
TZID:Europe/Madrid
BEGIN:DAYLIGHT
TZOFFSETFROM:+0100
TZOFFSETTO:+0200
TZNAME:CEST
DTSTART:20240331T010000
END:DAYLIGHT
BEGIN:STANDARD
TZOFFSETFROM:+0200
TZOFFSETTO:+0100
TZNAME:CET
DTSTART:20241027T010000
END:STANDARD
BEGIN:DAYLIGHT
TZOFFSETFROM:+0100
TZOFFSETTO:+0200
TZNAME:CEST
DTSTART:20250330T010000
END:DAYLIGHT
BEGIN:STANDARD
TZOFFSETFROM:+0200
TZOFFSETTO:+0100
TZNAME:CET
DTSTART:20251026T010000
END:STANDARD
BEGIN:DAYLIGHT
TZOFFSETFROM:+0100
TZOFFSETTO:+0200
TZNAME:CEST
DTSTART:20260329T010000
END:DAYLIGHT
BEGIN:STANDARD
TZOFFSETFROM:+0200
TZOFFSETTO:+0100
TZNAME:CET
DTSTART:20261025T010000
END:STANDARD
END:VTIMEZONE
BEGIN:VEVENT
DTSTART;TZID=Europe/Madrid:20250109T190000
DTEND;TZID=Europe/Madrid:20250109T200000
DTSTAMP:20260421T175758
CREATED:20250106T163354Z
LAST-MODIFIED:20250108T164015Z
UID:7302-1736449200-1736452800@realesclavitudalmudena.com
SUMMARY:MISA EN HONOR A LA VIRGEN DE LA ALMUDENA DIA 9 DE ENERO DE 2025
DESCRIPTION:DÍA 9 DE ENERO  DE 2025 A LAS 19\,00 HORAS \, COMO TODOS LOS MESES\,  LA REAL ESCLAVITUD\,  TIENE EL HONOR  DE INVITARLES A PARTICIPAR  EN  LA EUCARISTÍA. DE LA VIRGEN DE LA ALMUDENA.  PRIMERA MISA DE ESTE   Año Jubilar convocado por la Iglesia universal con el lema Peregrinos de Esperanza. \n UNIDOS FRATERNAMENTE\, A NUESTRA MADRE.\nEN SUS MANOS PONEMOS TODAS NUESTRAS INTENCIONES.\n \nAMEN \n¡¡TE  ESPERAMOS!!\n 
URL:https://realesclavitudalmudena.com/evento/misa-en-honor-a-la-virgen-de-la-almudena-dia-9-de-enero-de-2025
CATEGORIES:Catedral de la Almudena
END:VEVENT
BEGIN:VEVENT
DTSTART;TZID=Europe/Madrid:20250125T200000
DTEND;TZID=Europe/Madrid:20250125T210000
DTSTAMP:20260421T175758
CREATED:20250122T203239Z
LAST-MODIFIED:20250122T203239Z
UID:7323-1737835200-1737838800@realesclavitudalmudena.com
SUMMARY:Don José Manuel Fernández\, invita a participar en la clausura de la Semana de Oración por la Unidad de los Cristianos
DESCRIPTION:El próximo sábado\, 25 de enero\, la Catedral de la Almudena acogerá la clausura de la Semana de Oración por la Unidad de los Cristianos. La Delegación de Jóvenes junto con la Delegación de Ecumenismo y Diálogo Interreligioso animarán el rezo de Vísperas\, que serán presididas por el arzobispo de Madrid\, cardenal José Cobo\, en la catedral de la Almudena\, a las 20:00 horas. También asistirán representantes de otras confesiones religiosas. \nPara quienes no puedan asistir presencialmente\, la archidiócesis ofrece la posibilidad de seguir la celebración en directo a través de su canal de YouTube.
URL:https://realesclavitudalmudena.com/evento/don-jose-manuel-fernandez-invita-a-participar-en-la-clausura-de-la-semana-de-oracion-por-la-unidad-de-los-cristianos
CATEGORIES:Catedral de la Almudena,DON JOSE COBO
ATTACH;FMTTYPE=image/png:https://realesclavitudalmudena.com/wp-content/uploads/2025/01/image-10.png
END:VEVENT
END:VCALENDAR